BEGIN:VCALENDAR
VERSION:2.0
PRODID:-//Yoga with Hilary - ECPv6.15.14//NONSGML v1.0//EN
CALSCALE:GREGORIAN
METHOD:PUBLISH
X-WR-CALNAME:Yoga with Hilary
X-ORIGINAL-URL:https://yogawithhilary.com
X-WR-CALDESC:Events for Yoga with Hilary
REFRESH-INTERVAL;VALUE=DURATION:PT1H
X-Robots-Tag:noindex
X-PUBLISHED-TTL:PT1H
BEGIN:VTIMEZONE
TZID:UTC
BEGIN:STANDARD
TZOFFSETFROM:+0000
TZOFFSETTO:+0000
TZNAME:UTC
DTSTART:20240101T000000
END:STANDARD
END:VTIMEZONE
BEGIN:VEVENT
DTSTART;TZID=UTC:20260122T160000
DTEND;TZID=UTC:20260122T170000
DTSTAMP:20260420T005836
CREATED:20260105T164555Z
LAST-MODIFIED:20260213T161335Z
UID:10000009-1769097600-1769101200@yogawithhilary.com
SUMMARY:Victor Teacher's Exclusive Yoga Class 2026
DESCRIPTION:Content is protected.
URL:https://yogawithhilary.com/event/victor-teachers-exclusive-yoga-class-2026/2026-01-22/
LOCATION:The Mendon Academy in the Yoga Loft\, 16 Mendon Ionia Rd\, Mendon\, NY\, 14506
END:VEVENT
BEGIN:VEVENT
DTSTART;TZID=UTC:20260115T160000
DTEND;TZID=UTC:20260115T170000
DTSTAMP:20260420T005836
CREATED:20260105T164555Z
LAST-MODIFIED:20260213T161335Z
UID:10000008-1768492800-1768496400@yogawithhilary.com
SUMMARY:Victor Teacher's Exclusive Yoga Class 2026
DESCRIPTION:Content is protected.
URL:https://yogawithhilary.com/event/victor-teachers-exclusive-yoga-class-2026/2026-01-15/
LOCATION:The Mendon Academy in the Yoga Loft\, 16 Mendon Ionia Rd\, Mendon\, NY\, 14506
END:VEVENT
BEGIN:VEVENT
DTSTART;TZID=UTC:20260108T160000
DTEND;TZID=UTC:20260108T170000
DTSTAMP:20260420T005836
CREATED:20260105T164555Z
LAST-MODIFIED:20260213T161335Z
UID:10000007-1767888000-1767891600@yogawithhilary.com
SUMMARY:Victor Teacher's Exclusive Yoga Class 2026
DESCRIPTION:Content is protected.
URL:https://yogawithhilary.com/event/victor-teachers-exclusive-yoga-class-2026/2026-01-08/
LOCATION:The Mendon Academy in the Yoga Loft\, 16 Mendon Ionia Rd\, Mendon\, NY\, 14506
END:VEVENT
BEGIN:VEVENT
DTSTART;TZID=UTC:20251221T120000
DTEND;TZID=UTC:20251221T133000
DTSTAMP:20260420T005836
CREATED:20251125T182553Z
LAST-MODIFIED:20251125T190405Z
UID:10000006-1766318400-1766323800@yogawithhilary.com
SUMMARY:Winter Solstice Restorative Class
DESCRIPTION:Pre-register is $20\, drop in $25 \nVenmo @Hilary-Stott
URL:https://yogawithhilary.com/event/winter-solstice-restorative-class/
LOCATION:The Mendon Academy in the Yoga Loft\, 16 Mendon Ionia Rd\, Mendon\, NY\, 14506
ATTACH;FMTTYPE=image/jpeg:https://yogawithhilary.com/wp-content/uploads/2025/11/InsoSunset_01.jpg
END:VEVENT
BEGIN:VEVENT
DTSTART;TZID=UTC:20251218T160000
DTEND;TZID=UTC:20251218T170000
DTSTAMP:20260420T005836
CREATED:20251121T203241Z
LAST-MODIFIED:20251202T142541Z
UID:10000005-1766073600-1766077200@yogawithhilary.com
SUMMARY:Victor Teachers' Exclusive Yoga Class
DESCRIPTION:Content is protected.
URL:https://yogawithhilary.com/event/victor-teachers-exclusive-yoga-class/2025-12-18/
LOCATION:NY
CATEGORIES:Subbing / Class
END:VEVENT
BEGIN:VEVENT
DTSTART;TZID=UTC:20251211T160000
DTEND;TZID=UTC:20251211T170000
DTSTAMP:20260420T005836
CREATED:20251121T203241Z
LAST-MODIFIED:20251202T142541Z
UID:10000004-1765468800-1765472400@yogawithhilary.com
SUMMARY:Victor Teachers' Exclusive Yoga Class
DESCRIPTION:Content is protected.
URL:https://yogawithhilary.com/event/victor-teachers-exclusive-yoga-class/2025-12-11/
LOCATION:NY
CATEGORIES:Subbing / Class
END:VEVENT
END:VCALENDAR