BEGIN:VCALENDAR
VERSION:2.0
PRODID:-//Yoga with Hilary - ECPv6.15.14//NONSGML v1.0//EN
CALSCALE:GREGORIAN
METHOD:PUBLISH
X-WR-CALNAME:Yoga with Hilary
X-ORIGINAL-URL:https://yogawithhilary.com
X-WR-CALDESC:Events for Yoga with Hilary
REFRESH-INTERVAL;VALUE=DURATION:PT1H
X-Robots-Tag:noindex
X-PUBLISHED-TTL:PT1H
BEGIN:VTIMEZONE
TZID:UTC
BEGIN:STANDARD
TZOFFSETFROM:+0000
TZOFFSETTO:+0000
TZNAME:UTC
DTSTART:20240101T000000
END:STANDARD
END:VTIMEZONE
BEGIN:VEVENT
DTSTART;TZID=UTC:20260319T160000
DTEND;TZID=UTC:20260319T173000
DTSTAMP:20260420T041322
CREATED:20260316T133924Z
LAST-MODIFIED:20260316T133924Z
UID:10000074-1773936000-1773941400@yogawithhilary.com
SUMMARY:Yoga Class
DESCRIPTION:
URL:https://yogawithhilary.com/event/yoga-class/2026-03-19/
LOCATION:The Mendon Academy in the Yoga Loft\, 16 Mendon Ionia Rd\, Mendon\, NY\, 14506
ATTACH;FMTTYPE=image/png:https://yogawithhilary.com/wp-content/uploads/2026/03/march-yoga-offerings.png
END:VEVENT
BEGIN:VEVENT
DTSTART;TZID=UTC:20260318T090000
DTEND;TZID=UTC:20260318T103000
DTSTAMP:20260420T041322
CREATED:20260316T133924Z
LAST-MODIFIED:20260316T133924Z
UID:10000073-1773824400-1773829800@yogawithhilary.com
SUMMARY:Yoga Class
DESCRIPTION:
URL:https://yogawithhilary.com/event/yoga-class/2026-03-18/
LOCATION:The Mendon Academy in the Yoga Loft\, 16 Mendon Ionia Rd\, Mendon\, NY\, 14506
ATTACH;FMTTYPE=image/png:https://yogawithhilary.com/wp-content/uploads/2026/03/march-yoga-offerings.png
END:VEVENT
BEGIN:VEVENT
DTSTART;TZID=UTC:20260318T090000
DTEND;TZID=UTC:20260318T101500
DTSTAMP:20260420T041322
CREATED:20260212T161709Z
LAST-MODIFIED:20260213T162028Z
UID:10000014-1773824400-1773828900@yogawithhilary.com
SUMMARY:All Levels Gentle Yoga at The Mendon Academy (Women Only)
DESCRIPTION:Please register at baniaello.com
URL:https://yogawithhilary.com/event/all-levels-gentle-yoga-at-the-mendon-academy-women-only/
LOCATION:The Mendon Academy in the Yoga Loft\, 16 Mendon Ionia Rd\, Mendon\, NY\, 14506
CATEGORIES:Community Events,Subbing / Class
ATTACH;FMTTYPE=image/png:https://yogawithhilary.com/wp-content/uploads/2026/02/march-yoga.png
END:VEVENT
BEGIN:VEVENT
DTSTART;TZID=UTC:20260316T090000
DTEND;TZID=UTC:20260316T103000
DTSTAMP:20260420T041322
CREATED:20260316T133924Z
LAST-MODIFIED:20260316T133924Z
UID:10000072-1773651600-1773657000@yogawithhilary.com
SUMMARY:Yoga Class
DESCRIPTION:
URL:https://yogawithhilary.com/event/yoga-class/2026-03-16/
LOCATION:The Mendon Academy in the Yoga Loft\, 16 Mendon Ionia Rd\, Mendon\, NY\, 14506
ATTACH;FMTTYPE=image/png:https://yogawithhilary.com/wp-content/uploads/2026/03/march-yoga-offerings.png
END:VEVENT
BEGIN:VEVENT
DTSTART;TZID=UTC:20260316T090000
DTEND;TZID=UTC:20260316T101500
DTSTAMP:20260420T041322
CREATED:20260212T161714Z
LAST-MODIFIED:20260213T162015Z
UID:10000013-1773651600-1773656100@yogawithhilary.com
SUMMARY:All Levels Gentle Yoga at The Mendon Academy
DESCRIPTION:Please register at baniaello.com
URL:https://yogawithhilary.com/event/all-levels-gentle-yoga-at-the-mendon-academy/
LOCATION:The Mendon Academy in the Yoga Loft\, 16 Mendon Ionia Rd\, Mendon\, NY\, 14506
CATEGORIES:Hilary Schedule,Subbing / Class
ATTACH;FMTTYPE=image/png:https://yogawithhilary.com/wp-content/uploads/2026/02/march-yoga.png
END:VEVENT
BEGIN:VEVENT
DTSTART;TZID=UTC:20260205T160000
DTEND;TZID=UTC:20260205T170000
DTSTAMP:20260420T041322
CREATED:20260105T164555Z
LAST-MODIFIED:20260213T161335Z
UID:10000011-1770307200-1770310800@yogawithhilary.com
SUMMARY:Victor Teacher's Exclusive Yoga Class 2026
DESCRIPTION:Content is protected.
URL:https://yogawithhilary.com/event/victor-teachers-exclusive-yoga-class-2026/2026-02-05/
LOCATION:The Mendon Academy in the Yoga Loft\, 16 Mendon Ionia Rd\, Mendon\, NY\, 14506
END:VEVENT
BEGIN:VEVENT
DTSTART;TZID=UTC:20260129T160000
DTEND;TZID=UTC:20260129T170000
DTSTAMP:20260420T041322
CREATED:20260105T164555Z
LAST-MODIFIED:20260213T161335Z
UID:10000010-1769702400-1769706000@yogawithhilary.com
SUMMARY:Victor Teacher's Exclusive Yoga Class 2026
DESCRIPTION:Content is protected.
URL:https://yogawithhilary.com/event/victor-teachers-exclusive-yoga-class-2026/2026-01-29/
LOCATION:The Mendon Academy in the Yoga Loft\, 16 Mendon Ionia Rd\, Mendon\, NY\, 14506
END:VEVENT
BEGIN:VEVENT
DTSTART;TZID=UTC:20260122T160000
DTEND;TZID=UTC:20260122T170000
DTSTAMP:20260420T041322
CREATED:20260105T164555Z
LAST-MODIFIED:20260213T161335Z
UID:10000009-1769097600-1769101200@yogawithhilary.com
SUMMARY:Victor Teacher's Exclusive Yoga Class 2026
DESCRIPTION:Content is protected.
URL:https://yogawithhilary.com/event/victor-teachers-exclusive-yoga-class-2026/2026-01-22/
LOCATION:The Mendon Academy in the Yoga Loft\, 16 Mendon Ionia Rd\, Mendon\, NY\, 14506
END:VEVENT
BEGIN:VEVENT
DTSTART;TZID=UTC:20260115T160000
DTEND;TZID=UTC:20260115T170000
DTSTAMP:20260420T041322
CREATED:20260105T164555Z
LAST-MODIFIED:20260213T161335Z
UID:10000008-1768492800-1768496400@yogawithhilary.com
SUMMARY:Victor Teacher's Exclusive Yoga Class 2026
DESCRIPTION:Content is protected.
URL:https://yogawithhilary.com/event/victor-teachers-exclusive-yoga-class-2026/2026-01-15/
LOCATION:The Mendon Academy in the Yoga Loft\, 16 Mendon Ionia Rd\, Mendon\, NY\, 14506
END:VEVENT
BEGIN:VEVENT
DTSTART;TZID=UTC:20260108T160000
DTEND;TZID=UTC:20260108T170000
DTSTAMP:20260420T041322
CREATED:20260105T164555Z
LAST-MODIFIED:20260213T161335Z
UID:10000007-1767888000-1767891600@yogawithhilary.com
SUMMARY:Victor Teacher's Exclusive Yoga Class 2026
DESCRIPTION:Content is protected.
URL:https://yogawithhilary.com/event/victor-teachers-exclusive-yoga-class-2026/2026-01-08/
LOCATION:The Mendon Academy in the Yoga Loft\, 16 Mendon Ionia Rd\, Mendon\, NY\, 14506
END:VEVENT
BEGIN:VEVENT
DTSTART;TZID=UTC:20251221T120000
DTEND;TZID=UTC:20251221T133000
DTSTAMP:20260420T041322
CREATED:20251125T182553Z
LAST-MODIFIED:20251125T190405Z
UID:10000006-1766318400-1766323800@yogawithhilary.com
SUMMARY:Winter Solstice Restorative Class
DESCRIPTION:Pre-register is $20\, drop in $25 \nVenmo @Hilary-Stott
URL:https://yogawithhilary.com/event/winter-solstice-restorative-class/
LOCATION:The Mendon Academy in the Yoga Loft\, 16 Mendon Ionia Rd\, Mendon\, NY\, 14506
ATTACH;FMTTYPE=image/jpeg:https://yogawithhilary.com/wp-content/uploads/2025/11/InsoSunset_01.jpg
END:VEVENT
BEGIN:VEVENT
DTSTART;TZID=UTC:20251218T160000
DTEND;TZID=UTC:20251218T170000
DTSTAMP:20260420T041322
CREATED:20251121T203241Z
LAST-MODIFIED:20251202T142541Z
UID:10000005-1766073600-1766077200@yogawithhilary.com
SUMMARY:Victor Teachers' Exclusive Yoga Class
DESCRIPTION:Content is protected.
URL:https://yogawithhilary.com/event/victor-teachers-exclusive-yoga-class/2025-12-18/
LOCATION:NY
CATEGORIES:Subbing / Class
END:VEVENT
BEGIN:VEVENT
DTSTART;TZID=UTC:20251211T160000
DTEND;TZID=UTC:20251211T170000
DTSTAMP:20260420T041322
CREATED:20251121T203241Z
LAST-MODIFIED:20251202T142541Z
UID:10000004-1765468800-1765472400@yogawithhilary.com
SUMMARY:Victor Teachers' Exclusive Yoga Class
DESCRIPTION:Content is protected.
URL:https://yogawithhilary.com/event/victor-teachers-exclusive-yoga-class/2025-12-11/
LOCATION:NY
CATEGORIES:Subbing / Class
END:VEVENT
END:VCALENDAR